BEGIN:VCALENDAR
VERSION:2.0
PRODID:-//Iowa Arboretum &amp; Gardens  - ECPv6.15.20//NONSGML v1.0//EN
CALSCALE:GREGORIAN
METHOD:PUBLISH
X-WR-CALNAME:Iowa Arboretum &amp; Gardens 
X-ORIGINAL-URL:https://iowaarboretum.org
X-WR-CALDESC:Events for Iowa Arboretum &amp; Gardens 
REFRESH-INTERVAL;VALUE=DURATION:PT1H
X-Robots-Tag:noindex
X-PUBLISHED-TTL:PT1H
BEGIN:VTIMEZONE
TZID:America/Chicago
BEGIN:DAYLIGHT
TZOFFSETFROM:-0600
TZOFFSETTO:-0500
TZNAME:CDT
DTSTART:20230312T080000
END:DAYLIGHT
BEGIN:STANDARD
TZOFFSETFROM:-0500
TZOFFSETTO:-0600
TZNAME:CST
DTSTART:20231105T070000
END:STANDARD
BEGIN:DAYLIGHT
TZOFFSETFROM:-0600
TZOFFSETTO:-0500
TZNAME:CDT
DTSTART:20240310T080000
END:DAYLIGHT
BEGIN:STANDARD
TZOFFSETFROM:-0500
TZOFFSETTO:-0600
TZNAME:CST
DTSTART:20241103T070000
END:STANDARD
BEGIN:DAYLIGHT
TZOFFSETFROM:-0600
TZOFFSETTO:-0500
TZNAME:CDT
DTSTART:20250309T080000
END:DAYLIGHT
BEGIN:STANDARD
TZOFFSETFROM:-0500
TZOFFSETTO:-0600
TZNAME:CST
DTSTART:20251102T070000
END:STANDARD
END:VTIMEZONE
BEGIN:VEVENT
DTSTART;TZID=America/Chicago:20240813T180000
DTEND;TZID=America/Chicago:20240813T200000
DTSTAMP:20260425T144429
CREATED:20240229T230221Z
LAST-MODIFIED:20240805T152515Z
UID:4050-1723572000-1723579200@iowaarboretum.org
SUMMARY:Tunes in the Trees - Scott Davis Jazz Quartet
DESCRIPTION:Tunes in the Trees\nMusician: Scott Davis Jazz Quartet\nTuesday\, August 13\nConcert time: 6 pm to 8 pm\nGates open at 5 pm for food trucks Reno & Woody’s and Tropical Sno with drinks available from Christiani’s.\n \nBring your lawn chair and enjoy a night of great music and food as we kick off another successful season of music at the Arboretum. For our guests traveling to the Arboretum from the west\, please be aware that the E-57 Bridge is currently closed over the Des Moines River between Highway 169 and Peach Avenue. Recommended routes from the west can be found on our Directions page.\nThe Scott Davis Jazz Quartet was formed in 2002 to promote the release of the CD\, Scott Davis Almost Time. The CD features a number of originals and the group covers artists as diverse as Burt Bacharach\, Frank Sinatra\, and Cole Porter.  For more information about the Scott Davis Jazz Quartet\, click here\nTickets are $5 for members and $10 for non-members (can be purchased the day of the event)\nBring your lawn chair. Food truck(s) open at 5 pm (serving dinner).\nFOR MORE DETAILED INFORMATION\, SEE TUNES IN THE TREES FAQ
URL:https://iowaarboretum.org/event/tunes-in-the-trees-scott-davis-jazz-quartet/
LOCATION:Iowa Arboretum & Gardens\, 1875 Peach Avenue\, MADRID\, IA\, 50156
ATTACH;FMTTYPE=image/jpeg:https://iowaarboretum.org/wp-content/uploads/2024/02/FB-POST-August-13-2024.jpg
ORGANIZER;CN="Mark Schneider":MAILTO:mark.schneider@iowaarboretum.org
END:VEVENT
END:VCALENDAR