BEGIN:VCALENDAR
VERSION:2.0
PRODID:-//Iowa Arboretum &amp; Gardens  - ECPv6.15.20//NONSGML v1.0//EN
CALSCALE:GREGORIAN
METHOD:PUBLISH
X-WR-CALNAME:Iowa Arboretum &amp; Gardens 
X-ORIGINAL-URL:https://iowaarboretum.org
X-WR-CALDESC:Events for Iowa Arboretum &amp; Gardens 
REFRESH-INTERVAL;VALUE=DURATION:PT1H
X-Robots-Tag:noindex
X-PUBLISHED-TTL:PT1H
BEGIN:VTIMEZONE
TZID:America/Chicago
BEGIN:DAYLIGHT
TZOFFSETFROM:-0600
TZOFFSETTO:-0500
TZNAME:CDT
DTSTART:20230312T080000
END:DAYLIGHT
BEGIN:STANDARD
TZOFFSETFROM:-0500
TZOFFSETTO:-0600
TZNAME:CST
DTSTART:20231105T070000
END:STANDARD
BEGIN:DAYLIGHT
TZOFFSETFROM:-0600
TZOFFSETTO:-0500
TZNAME:CDT
DTSTART:20240310T080000
END:DAYLIGHT
BEGIN:STANDARD
TZOFFSETFROM:-0500
TZOFFSETTO:-0600
TZNAME:CST
DTSTART:20241103T070000
END:STANDARD
BEGIN:DAYLIGHT
TZOFFSETFROM:-0600
TZOFFSETTO:-0500
TZNAME:CDT
DTSTART:20250309T080000
END:DAYLIGHT
BEGIN:STANDARD
TZOFFSETFROM:-0500
TZOFFSETTO:-0600
TZNAME:CST
DTSTART:20251102T070000
END:STANDARD
END:VTIMEZONE
BEGIN:VEVENT
DTSTART;TZID=America/Chicago:20240609T120000
DTEND;TZID=America/Chicago:20240609T140000
DTSTAMP:20260425T174350
CREATED:20240229T220205Z
LAST-MODIFIED:20240531T171737Z
UID:4038-1717934400-1717941600@iowaarboretum.org
SUMMARY:Classic Car Day
DESCRIPTION:Come see the classics at the 12th annual car show. Talk to car owners about their classics while enjoying delicious food provided by Smokin’ Big Dawgs BBQ and Totally Rolled Ice Cream food trucks!\nRegistration for Cars: 11 am to 12 noon. Show runs from 12noon-2pm.\n 
URL:https://iowaarboretum.org/event/classic-car-day-2/
LOCATION:Iowa Arboretum & Gardens\, 1875 Peach Avenue\, MADRID\, IA\, 50156
ATTACH;FMTTYPE=image/jpeg:https://iowaarboretum.org/wp-content/uploads/2024/02/Classic-Car-Show_Flyer-1.jpg
ORGANIZER;CN="Mark Schneider":MAILTO:mark.schneider@iowaarboretum.org
END:VEVENT
BEGIN:VEVENT
DTSTART;TZID=America/Chicago:20240611T060000
DTEND;TZID=America/Chicago:20240611T200000
DTSTAMP:20260425T174350
CREATED:20240229T221747Z
LAST-MODIFIED:20240531T172101Z
UID:4043-1718085600-1718136000@iowaarboretum.org
SUMMARY:Tunes in the Trees - Carter Guse
DESCRIPTION:Tunes in the Trees\nMusician: Carter Guse\nTuesday\, June 11\nConcert time: 6 pm to 8 pm\nGates open at 5 pm for food trucks Smiokin’ Big Dawgs BBQ and Totally Rolled Ice Cream and drinks available from Christiani’s.\n \nBring your lawn chair and enjoy a night of great music and food as we kick off another successful season of music at the Arboretum. Carter\, 18 years old\, is a singer/songwriter/entertainer who plays a Taylor acoustic guitar as well as a Gibson Les Paul electric guitar\, drums\, and piano in genres ranging from the 50’s through today. He is returning to our stage after a year of studying music at college in Nashville. Dinner is available from Smokin’ Big Dawgs and dessert from Totally Rolled Ice Cream.\nFor more information about Carter\, click here\nTickets are $5 for members and $10 for non-members (can be purchased the day of the event)\nBring your lawn chair. Food truck(s) open at 5 pm (serving dinner).\nFOR MORE DETAILED INFORMATION\, SEE TUNES IN THE TREES FAQ
URL:https://iowaarboretum.org/event/tunes-in-the-trees-carter-guse-2/
LOCATION:Iowa Arboretum & Gardens\, 1875 Peach Avenue\, MADRID\, IA\, 50156
ATTACH;FMTTYPE=image/jpeg:https://iowaarboretum.org/wp-content/uploads/2024/02/FB-POST-June-11-2024.jpg
ORGANIZER;CN="Mark Schneider":MAILTO:mark.schneider@iowaarboretum.org
END:VEVENT
END:VCALENDAR