BEGIN:VCALENDAR
VERSION:2.0
PRODID:-//Iowa Arboretum &amp; Gardens  - ECPv6.15.20//NONSGML v1.0//EN
CALSCALE:GREGORIAN
METHOD:PUBLISH
X-WR-CALNAME:Iowa Arboretum &amp; Gardens 
X-ORIGINAL-URL:https://iowaarboretum.org
X-WR-CALDESC:Events for Iowa Arboretum &amp; Gardens 
REFRESH-INTERVAL;VALUE=DURATION:PT1H
X-Robots-Tag:noindex
X-PUBLISHED-TTL:PT1H
BEGIN:VTIMEZONE
TZID:America/Chicago
BEGIN:DAYLIGHT
TZOFFSETFROM:-0600
TZOFFSETTO:-0500
TZNAME:CDT
DTSTART:20240310T080000
END:DAYLIGHT
BEGIN:STANDARD
TZOFFSETFROM:-0500
TZOFFSETTO:-0600
TZNAME:CST
DTSTART:20241103T070000
END:STANDARD
BEGIN:DAYLIGHT
TZOFFSETFROM:-0600
TZOFFSETTO:-0500
TZNAME:CDT
DTSTART:20250309T080000
END:DAYLIGHT
BEGIN:STANDARD
TZOFFSETFROM:-0500
TZOFFSETTO:-0600
TZNAME:CST
DTSTART:20251102T070000
END:STANDARD
BEGIN:DAYLIGHT
TZOFFSETFROM:-0600
TZOFFSETTO:-0500
TZNAME:CDT
DTSTART:20260308T080000
END:DAYLIGHT
BEGIN:STANDARD
TZOFFSETFROM:-0500
TZOFFSETTO:-0600
TZNAME:CST
DTSTART:20261101T070000
END:STANDARD
END:VTIMEZONE
BEGIN:VEVENT
DTSTART;TZID=America/Chicago:20250419T120000
DTEND;TZID=America/Chicago:20250419T150000
DTSTAMP:20260423T083514
CREATED:20240817T230224Z
LAST-MODIFIED:20250114T165319Z
UID:4446-1745064000-1745074800@iowaarboretum.org
SUMMARY:Taking Time to See Watercolor Art Class
DESCRIPTION:Jane Marie Degeneffe describes her watercolor workshop in this way… Taking Time to See is a workshop that will give an awareness of the beauty around you in both nature and the world of thought and meditation. In this workshop\, you begin with choosing one of the flowers or branches provided to focus on and paint. This first watercolor painting done in class will be an illustration for your writing. Your writing will be separate from workshop time\, as the time in class will be painting. The blank watercolor pad and paints provided will be a take home starter for your journal. Quotes\, reflections\, poetry and goals or memories are always good topics for journaling. Taking time to see and be mindful of what goes on within your heart can be very restful and healing. The watercolor painting process is also restful and healing. Workshop runs from 1-3pm with an opening reception from 12-1pm before class starts. \nREGISTER HERE
URL:https://iowaarboretum.org/event/taking-time-to-see-watercolor-art-class/
LOCATION:Iowa Arboretum & Gardens\, 1875 Peach Avenue\, MADRID\, IA\, 50156
ATTACH;FMTTYPE=image/jpeg:https://iowaarboretum.org/wp-content/uploads/2024/08/Watercolor-Class-photo.jpg
ORGANIZER;CN="Kim Anderson":MAILTO:info@iowaarboretum.org
END:VEVENT
END:VCALENDAR